BEGIN:VCALENDAR
VERSION:2.0
PRODID:spatie/icalendar-generator
DESCRIPTION:Events from Thunder Bay Links
X-WR-CALDESC:Events from Thunder Bay Links
REFRESH-INTERVAL;VALUE=DURATION:PT1440M
X-PUBLISHED-TTL:PT1440M
BEGIN:VTIMEZONE
TZID:America/Thunder_Bay
BEGIN:STANDARD
DTSTART:20211107T020000Z
TZOFFSETFROM:-0400
TZOFFSETTO:-0500
END:STANDARD
BEGIN:DAYLIGHT
DTSTART:20220313T020000Z
TZOFFSETFROM:-0500
TZOFFSETTO:-0400
END:DAYLIGHT
BEGIN:STANDARD
DTSTART:20221106T020000Z
TZOFFSETFROM:-0400
TZOFFSETTO:-0500
END:STANDARD
END:VTIMEZONE
BEGIN:VTIMEZONE
TZID:UTC
BEGIN:STANDARD
DTSTART:20250726T000212Z
TZOFFSETFROM:+0000
TZOFFSETTO:+0000
END:STANDARD
END:VTIMEZONE
BEGIN:VEVENT
UID:52-46
DTSTAMP:20260422T000212Z
SUMMARY:First Day of Event Calendar
LOCATION:
ORGANIZER;CN=tbl-admin:MAILTO:webterritory@hotmail.com
DTSTART;TZID=America/Thunder_Bay;VALUE=DATE:20220624
DTEND;TZID=America/Thunder_Bay;VALUE=DATE:20220625
X-ALT-DESC;FMTTYPE=TEXT/HTML:<p>Please contact us to submit an event.</p>\n
CATEGORIES:General
URL;VALUE=URI:https://thunderbaylinks.ca/mc-events/first-day-of-event-calen
 dar/
METHOD:PUBLISH
END:VEVENT
END:VCALENDAR